BEGIN:VCALENDAR
VERSION:2.0
PRODID:-//Assemblea dei Genitori dell&#039;Istituto Scolastico di Losone - ECPv6.15.20//NONSGML v1.0//EN
CALSCALE:GREGORIAN
METHOD:PUBLISH
X-ORIGINAL-URL:https://genitorilosone.ch
X-WR-CALDESC:Eventi per Assemblea dei Genitori dell&#039;Istituto Scolastico di Losone
REFRESH-INTERVAL;VALUE=DURATION:PT1H
X-Robots-Tag:noindex
X-PUBLISHED-TTL:PT1H
BEGIN:VTIMEZONE
TZID:Europe/Rome
BEGIN:DAYLIGHT
TZOFFSETFROM:+0100
TZOFFSETTO:+0200
TZNAME:CEST
DTSTART:20250330T010000
END:DAYLIGHT
BEGIN:STANDARD
TZOFFSETFROM:+0200
TZOFFSETTO:+0100
TZNAME:CET
DTSTART:20251026T010000
END:STANDARD
BEGIN:DAYLIGHT
TZOFFSETFROM:+0100
TZOFFSETTO:+0200
TZNAME:CEST
DTSTART:20260329T010000
END:DAYLIGHT
BEGIN:STANDARD
TZOFFSETFROM:+0200
TZOFFSETTO:+0100
TZNAME:CET
DTSTART:20261025T010000
END:STANDARD
BEGIN:DAYLIGHT
TZOFFSETFROM:+0100
TZOFFSETTO:+0200
TZNAME:CEST
DTSTART:20270328T010000
END:DAYLIGHT
BEGIN:STANDARD
TZOFFSETFROM:+0200
TZOFFSETTO:+0100
TZNAME:CET
DTSTART:20271031T010000
END:STANDARD
END:VTIMEZONE
BEGIN:VEVENT
DTSTART;TZID=Europe/Rome:20260203T153000
DTEND;TZID=Europe/Rome:20260203T163000
DTSTAMP:20260425T000824
CREATED:20260115T215640Z
LAST-MODIFIED:20260115T220249Z
UID:1856-1770132600-1770136200@genitorilosone.ch
SUMMARY:Scambio costumi carnevale
DESCRIPTION:
URL:https://genitorilosone.ch/events/scambio-costumi-carnevale-3/
LOCATION:Ludoteca “Il Bosco”\, Via Papogna 10\, Losone\, 6616\, Svizzera
ATTACH;FMTTYPE=image/png:https://genitorilosone.ch/wp-content/uploads/2026/01/Scambio-costumi-2026-e1768514555223.png
END:VEVENT
BEGIN:VEVENT
DTSTART;TZID=Europe/Rome:20260225T083000
DTEND;TZID=Europe/Rome:20260225T100000
DTSTAMP:20260425T000824
CREATED:20260224T081652Z
LAST-MODIFIED:20260224T081652Z
UID:1871-1772008200-1772013600@genitorilosone.ch
SUMMARY:Caffé dei genitori
DESCRIPTION:Ci trovate in Ludoteca tra le 8.30 e le 10 ca. Vi aspettiamo!
URL:https://genitorilosone.ch/events/caffe-dei-genitori-44/
END:VEVENT
END:VCALENDAR