BEGIN:VCALENDAR
VERSION:2.0
PRODID:-//Assemblea dei Genitori dell&#039;Istituto Scolastico di Losone - ECPv6.15.20//NONSGML v1.0//EN
CALSCALE:GREGORIAN
METHOD:PUBLISH
X-WR-CALNAME:Assemblea dei Genitori dell&#039;Istituto Scolastico di Losone
X-ORIGINAL-URL:https://genitorilosone.ch
X-WR-CALDESC:Eventi per Assemblea dei Genitori dell&#039;Istituto Scolastico di Losone
REFRESH-INTERVAL;VALUE=DURATION:PT1H
X-Robots-Tag:noindex
X-PUBLISHED-TTL:PT1H
BEGIN:VTIMEZONE
TZID:Europe/Rome
BEGIN:DAYLIGHT
TZOFFSETFROM:+0100
TZOFFSETTO:+0200
TZNAME:CEST
DTSTART:20240331T010000
END:DAYLIGHT
BEGIN:STANDARD
TZOFFSETFROM:+0200
TZOFFSETTO:+0100
TZNAME:CET
DTSTART:20241027T010000
END:STANDARD
BEGIN:DAYLIGHT
TZOFFSETFROM:+0100
TZOFFSETTO:+0200
TZNAME:CEST
DTSTART:20250330T010000
END:DAYLIGHT
BEGIN:STANDARD
TZOFFSETFROM:+0200
TZOFFSETTO:+0100
TZNAME:CET
DTSTART:20251026T010000
END:STANDARD
BEGIN:DAYLIGHT
TZOFFSETFROM:+0100
TZOFFSETTO:+0200
TZNAME:CEST
DTSTART:20260329T010000
END:DAYLIGHT
BEGIN:STANDARD
TZOFFSETFROM:+0200
TZOFFSETTO:+0100
TZNAME:CET
DTSTART:20261025T010000
END:STANDARD
BEGIN:DAYLIGHT
TZOFFSETFROM:+0100
TZOFFSETTO:+0200
TZNAME:CEST
DTSTART:20270328T010000
END:DAYLIGHT
BEGIN:STANDARD
TZOFFSETFROM:+0200
TZOFFSETTO:+0100
TZNAME:CET
DTSTART:20271031T010000
END:STANDARD
END:VTIMEZONE
BEGIN:VEVENT
DTSTART;TZID=Europe/Rome:20251201T080000
DTEND;TZID=Europe/Rome:20260106T170000
DTSTAMP:20260424T223657
CREATED:20251129T193851Z
LAST-MODIFIED:20251129T193851Z
UID:1833-1764576000-1767718800@genitorilosone.ch
SUMMARY:Calendario dell’Avvento per le vie di Losone e Arcegno
DESCRIPTION:
URL:https://genitorilosone.ch/events/calendario-dellavvento-per-le-vie-di-losone-e-arcegno/
END:VEVENT
BEGIN:VEVENT
DTSTART;TZID=Europe/Rome:20260114T083000
DTEND;TZID=Europe/Rome:20260114T100000
DTSTAMP:20260424T223657
CREATED:20250903T133517Z
LAST-MODIFIED:20250903T133517Z
UID:1717-1768379400-1768384800@genitorilosone.ch
SUMMARY:Caffé dei genitori
DESCRIPTION:Ci trovate in Ludoteca tra le 8.30 e le 10 ca. Vi aspettiamo!
URL:https://genitorilosone.ch/events/caffe-dei-genitori-43/
END:VEVENT
BEGIN:VEVENT
DTSTART;TZID=Europe/Rome:20260118T090000
DTEND;TZID=Europe/Rome:20260118T121500
DTSTAMP:20260424T223657
CREATED:20251210T141713Z
LAST-MODIFIED:20251210T141713Z
UID:1836-1768726800-1768738500@genitorilosone.ch
SUMMARY:Il corpo racconta - Corso mamma figlia
DESCRIPTION:Due incontri fra mamma e la figlia alle soglie dello sviluppo sessuale (ca. 5a elementare – 1a media) \nUn metodo ludico che permette alle bambine (intorno agli 11 anni) di scoprire i processi segreti del ciclo femminile: già prima del menarca\, le bambine dovrebbero familiarizzare con il ciclo femminile\, perché il succedersi del ciclo è ben più di un sanguinamento ogni 4 settimane! \nGli incontri sono dedicati alle bambine accompagnate dalla mamma\, in modo da favorire il dialogo su tematiche spesso vissute come imbarazzanti\, offrono spunti di discussione che potranno essere utili anche durante la crescita. Addomesticare i cambiamenti del corpo nella pubertà permette di acquisire una visione positiva della femminilità\, della sessualità e del compito di trasmettere la vita. La conoscenza dei cambiamenti del corpo e della fisiologia del ciclo mestruale permetterà di vivere i piccoli fastidi mensili in modo sereno e di gestirli senza ricorrere alla medicazione. \nGli incontri si svolgono in modo interattivo e coinvolgono sia le bambine che le mamme\, sia separatamente che in coppia. Le nozioni teoriche sono trasmesse utilizzando le più disparate tecniche d’animazione. Giochi\, scenette\, semplici lavori manuali renderanno gli incontri interessanti e divertenti. \nUna pausa merenda faciliterà uno scambio di opinioni fra le mamme e con l’animatrice e permetterà di visionare qualche libro interessante. Ogni bambina riceve una documentazione scritta. \nTematiche: \n\nanatomia e fisiologia femminile e maschile\, igiene\nil ciclo mestruale: i segnali della fertilità\, i sintomi legati alle variazioni ormonali\nil mistero della vita\, concepimento\, gravidanza e nascita\ni cambiamenti del corpo con la pubertà\, il pudore\ndifferenze di ruolo maschile/femminile\nla femminilità\, l’autostima\nle emozioni: riconoscerle\, esprimerle\, gestirle\nil piacere\nil linguaggio del corpo\namicizia\, amore\nprevenzione degli abusi sessuali\n\n\n\nPer rendere il corso accessibile a tutti\, la Ludoteca “Il Bosco” ha deciso di prendersi carico di parte del costo effettivo del corso\, riducendo il contributo da CHF 110 a CHF 60 a coppia per le due mattinate. Il comitato AGISL è a disposizione in caso di necessità finanziarie particolari\, \nIl numero di coppie partecipanti è limitato e chi si iscrive è tenuto a partecipare ad entrambe le mattinate. \n\n\n\n\n\n\n\n\nDate: Domenica 18 e 25 gennaio 2026 dalle 9.00 alle 12.15\nIscrizioni entro il 27.12.2025 tramite formulario online.
URL:https://genitorilosone.ch/events/il-corpo-racconta-corso-mamma-figlia/
ATTACH;FMTTYPE=image/png:https://genitorilosone.ch/wp-content/uploads/2025/12/Il-corpo-racconta2.png
END:VEVENT
BEGIN:VEVENT
DTSTART;TZID=Europe/Rome:20260130T161000
DTEND;TZID=Europe/Rome:20260130T170000
DTSTAMP:20260424T223657
CREATED:20260115T211745Z
LAST-MODIFIED:20260115T220015Z
UID:1853-1769789400-1769792400@genitorilosone.ch
SUMMARY:Bandir gennaio 2026
DESCRIPTION:Ritrovo alle 16.10 davanti all’entrata delle scuole elementari. Conclusione con merenda presso il policentro anziani. \nIscrizione qui per permetterci di stimare le quantità della merenda:\nwww.genitorilosone.ch/iscrizione \nSe la meteo dovesse indurci ad annullare l’evento\, lo pubblicheremo qui entro le 9:30 del 31 gennaio. \n \n 
URL:https://genitorilosone.ch/events/bandir-gennaio-2026/
ATTACH;FMTTYPE=image/png:https://genitorilosone.ch/wp-content/uploads/2026/01/Bandir-Gennaio-26-e1768514310876.png
END:VEVENT
END:VCALENDAR