BEGIN:VCALENDAR
VERSION:2.0
PRODID:-//Assemblea dei Genitori dell&#039;Istituto Scolastico di Losone - ECPv6.15.20//NONSGML v1.0//EN
CALSCALE:GREGORIAN
METHOD:PUBLISH
X-WR-CALNAME:Assemblea dei Genitori dell&#039;Istituto Scolastico di Losone
X-ORIGINAL-URL:https://genitorilosone.ch
X-WR-CALDESC:Eventi per Assemblea dei Genitori dell&#039;Istituto Scolastico di Losone
REFRESH-INTERVAL;VALUE=DURATION:PT1H
X-Robots-Tag:noindex
X-PUBLISHED-TTL:PT1H
BEGIN:VTIMEZONE
TZID:Europe/Rome
BEGIN:DAYLIGHT
TZOFFSETFROM:+0100
TZOFFSETTO:+0200
TZNAME:CEST
DTSTART:20240331T010000
END:DAYLIGHT
BEGIN:STANDARD
TZOFFSETFROM:+0200
TZOFFSETTO:+0100
TZNAME:CET
DTSTART:20241027T010000
END:STANDARD
BEGIN:DAYLIGHT
TZOFFSETFROM:+0100
TZOFFSETTO:+0200
TZNAME:CEST
DTSTART:20250330T010000
END:DAYLIGHT
BEGIN:STANDARD
TZOFFSETFROM:+0200
TZOFFSETTO:+0100
TZNAME:CET
DTSTART:20251026T010000
END:STANDARD
BEGIN:DAYLIGHT
TZOFFSETFROM:+0100
TZOFFSETTO:+0200
TZNAME:CEST
DTSTART:20260329T010000
END:DAYLIGHT
BEGIN:STANDARD
TZOFFSETFROM:+0200
TZOFFSETTO:+0100
TZNAME:CET
DTSTART:20261025T010000
END:STANDARD
END:VTIMEZONE
BEGIN:VEVENT
DTSTART;TZID=Europe/Rome:20251008T083000
DTEND;TZID=Europe/Rome:20251008T100000
DTSTAMP:20260424T173245
CREATED:20250903T132500Z
LAST-MODIFIED:20250903T132500Z
UID:1716-1759912200-1759917600@genitorilosone.ch
SUMMARY:Caffé dei genitori
DESCRIPTION:Ci trovate in Ludoteca tra le 8.30 e le 10 ca. Vi aspettiamo!
URL:https://genitorilosone.ch/events/caffe-dei-genitori-40/
END:VEVENT
BEGIN:VEVENT
DTSTART;TZID=Europe/Rome:20251008T114500
DTEND;TZID=Europe/Rome:20251008T133000
DTSTAMP:20260424T173245
CREATED:20251002T221455Z
LAST-MODIFIED:20251002T221520Z
UID:1766-1759923900-1759930200@genitorilosone.ch
SUMMARY:Pic-nic delle classi prime
DESCRIPTION:Un occasione di conoscersi per le famiglie che hanno figli in prima \nCome funziona: \n\nTroverete dei tavoli per ogni prima\nSedetevi al tavolo della classe di vostro figlio\nGustatevi il picnic che vi siete portati da casa\nChiacchierate con chi vi sta accanto e fate amicizia con altre famiglie\n\n 
URL:https://genitorilosone.ch/events/pic-nic-delle-classi-prime-2/
ATTACH;FMTTYPE=image/png:https://genitorilosone.ch/wp-content/uploads/2025/10/PICNIC-DELLE-PRIME.png
END:VEVENT
BEGIN:VEVENT
DTSTART;TZID=Europe/Rome:20251014T200000
DTEND;TZID=Europe/Rome:20251014T211500
DTSTAMP:20260424T173245
CREATED:20250903T135532Z
LAST-MODIFIED:20251002T220846Z
UID:1730-1760472000-1760476500@genitorilosone.ch
SUMMARY:Serata informativa e assemblea ordinaria
DESCRIPTION:Programma della serata (Aula 3 delle scuole elementari)\n \n20:00 Presentazione del progetto “A mano a mano” per famiglie e giovani\nFausto Minonne Coordinatore delle politiche giovanili di Losone \n20:15 Mobilità scolastica e sicurezza. Spazio di condivisione di idee e visioni.\nFausto Fornera\, Capo Dicastero sicurezza\, mobilità\, sport e tempo libero\nVincenzo Castagnino\, Agente della polizia comunale di Losone \n20:45 Assemblea Ordinaria \nSegue rinfresco e condivisione di idee \n  \n  \nscaricate qui l’Ordine del giorno e lo Statuto AGISL \n 
URL:https://genitorilosone.ch/events/assemblea-ordinaria-5/
ATTACH;FMTTYPE=image/png:https://genitorilosone.ch/wp-content/uploads/2025/09/Assemblea-ordinaria-20252.png
END:VEVENT
BEGIN:VEVENT
DTSTART;TZID=Europe/Rome:20251022T083000
DTEND;TZID=Europe/Rome:20251022T100000
DTSTAMP:20260424T173245
CREATED:20250903T132541Z
LAST-MODIFIED:20250903T132541Z
UID:1719-1761121800-1761127200@genitorilosone.ch
SUMMARY:Caffé dei genitori
DESCRIPTION:Ci trovate in Ludoteca tra le 8.30 e le 10 ca. Vi aspettiamo!
URL:https://genitorilosone.ch/events/caffe-dei-genitori-41/
END:VEVENT
BEGIN:VEVENT
DTSTART;TZID=Europe/Rome:20251029T083000
DTEND;TZID=Europe/Rome:20251029T100000
DTSTAMP:20260424T173245
CREATED:20250903T132142Z
LAST-MODIFIED:20251024T210528Z
UID:1714-1761726600-1761732000@genitorilosone.ch
SUMMARY:Caffé dei genitori - anticipato dal 12.11
DESCRIPTION:Il caffé dei genitori del 12 novembre è stato anticipato al 29. ottobre.\nCi trovate in Ludoteca tra le 8.30 e le 10 ca. Vi aspettiamo!
URL:https://genitorilosone.ch/events/caffe-dei-genitori-39/
ATTACH;FMTTYPE=image/jpeg:https://genitorilosone.ch/wp-content/uploads/2025/09/Immagine-2025-10-24-230416.jpg
END:VEVENT
END:VCALENDAR