BEGIN:VCALENDAR
VERSION:2.0
PRODID:-//Assemblea dei Genitori dell&#039;Istituto Scolastico di Losone - ECPv6.15.20//NONSGML v1.0//EN
CALSCALE:GREGORIAN
METHOD:PUBLISH
X-ORIGINAL-URL:https://genitorilosone.ch
X-WR-CALDESC:Eventi per Assemblea dei Genitori dell&#039;Istituto Scolastico di Losone
REFRESH-INTERVAL;VALUE=DURATION:PT1H
X-Robots-Tag:noindex
X-PUBLISHED-TTL:PT1H
BEGIN:VTIMEZONE
TZID:Europe/Rome
BEGIN:DAYLIGHT
TZOFFSETFROM:+0100
TZOFFSETTO:+0200
TZNAME:CEST
DTSTART:20240331T010000
END:DAYLIGHT
BEGIN:STANDARD
TZOFFSETFROM:+0200
TZOFFSETTO:+0100
TZNAME:CET
DTSTART:20241027T010000
END:STANDARD
BEGIN:DAYLIGHT
TZOFFSETFROM:+0100
TZOFFSETTO:+0200
TZNAME:CEST
DTSTART:20250330T010000
END:DAYLIGHT
BEGIN:STANDARD
TZOFFSETFROM:+0200
TZOFFSETTO:+0100
TZNAME:CET
DTSTART:20251026T010000
END:STANDARD
BEGIN:DAYLIGHT
TZOFFSETFROM:+0100
TZOFFSETTO:+0200
TZNAME:CEST
DTSTART:20260329T010000
END:DAYLIGHT
BEGIN:STANDARD
TZOFFSETFROM:+0200
TZOFFSETTO:+0100
TZNAME:CET
DTSTART:20261025T010000
END:STANDARD
END:VTIMEZONE
BEGIN:VEVENT
DTSTART;TZID=Europe/Rome:20250906T133000
DTEND;TZID=Europe/Rome:20250906T170000
DTSTAMP:20260424T160622
CREATED:20250903T194515Z
LAST-MODIFIED:20250903T195317Z
UID:1743-1757165400-1757178000@genitorilosone.ch
SUMMARY:Camminata musicale di Arcegno
DESCRIPTION:Concerti e spettacoli gratuiti attraverso i boschi della Collina di Maia e i vicoli acciottolati di Arcegno. \nPer ragioni organizzative è necessario annunciarsi gratuitamente entro giovedì 4 settembre 2025\, scrivendo a comunicazione@losone.ch \nVolantino Camminata musicale 2025
URL:https://genitorilosone.ch/events/camminata-musicale-di-arcegno/
ATTACH;FMTTYPE=image/jpeg:https://genitorilosone.ch/wp-content/uploads/2025/09/Camminata-Musicale.jpg
END:VEVENT
BEGIN:VEVENT
DTSTART;TZID=Europe/Rome:20250910T083000
DTEND;TZID=Europe/Rome:20250910T100000
DTSTAMP:20260424T160622
CREATED:20250903T132052Z
LAST-MODIFIED:20250903T132052Z
UID:1710-1757493000-1757498400@genitorilosone.ch
SUMMARY:Caffé dei genitori
DESCRIPTION:Ci trovate in Ludoteca tra le 8.30 e le 10 ca. Vi aspettiamo!
URL:https://genitorilosone.ch/events/caffe-dei-genitori-37/
END:VEVENT
BEGIN:VEVENT
DTSTART;VALUE=DATE:20250919
DTEND;VALUE=DATE:20250920
DTSTAMP:20260424T160622
CREATED:20250903T134649Z
LAST-MODIFIED:20250903T135103Z
UID:1724-1758240000-1758326399@genitorilosone.ch
SUMMARY:Giornata internazionale a scuola a piedi
DESCRIPTION:Annunciatevi per camminare col Pedibus
URL:https://genitorilosone.ch/events/giornata-internazionale-a-scuola-a-piedi-4/
ATTACH;FMTTYPE=image/jpeg:https://genitorilosone.ch/wp-content/uploads/2025/09/a-scuola-a-piedi-manifestoATA.jpg
END:VEVENT
BEGIN:VEVENT
DTSTART;TZID=Europe/Rome:20250924T083000
DTEND;TZID=Europe/Rome:20250924T100000
DTSTAMP:20260424T160622
CREATED:20250903T132117Z
LAST-MODIFIED:20250903T132117Z
UID:1712-1758702600-1758708000@genitorilosone.ch
SUMMARY:Caffé dei genitori
DESCRIPTION:Ci trovate in Ludoteca tra le 8.30 e le 10 ca. Vi aspettiamo!
URL:https://genitorilosone.ch/events/caffe-dei-genitori-38/
END:VEVENT
BEGIN:VEVENT
DTSTART;TZID=Europe/Rome:20250926T163000
DTEND;TZID=Europe/Rome:20250926T180000
DTSTAMP:20260424T160622
CREATED:20250902T115759Z
LAST-MODIFIED:20250902T120030Z
UID:1693-1758904200-1758909600@genitorilosone.ch
SUMMARY:Festa di apertura "Ludoteca Il Bosco" 2025 e scambio vestiti autunno/inverno
DESCRIPTION:Dalle 16.30 Magic Show con il Mago Silvano! \nSegue merenda offerta per i bimbi! \n  \nSe hai piacere a portare un dolce per la merenda\, annunciati qui: http://www.genitorilosone.ch/iscrizione   \n  \n  \nDurante la festa verrà allestito lo spazio per lo scambio vestiti !\nQui le info: \n  \n \n  \n  \nVi aspettiamo! \n  \n 
URL:https://genitorilosone.ch/events/festa-di-apertura-ludoteca-il-bosco-2025-e-scambio-vestiti-autunno-inverno/
LOCATION:Ludoteca “Il Bosco”\, Via Papogna 10\, Losone\, 6616\, Svizzera
ATTACH;FMTTYPE=image/png:https://genitorilosone.ch/wp-content/uploads/2025/09/Copia-di-Volantino-festa-apertura-Ludoteca.png
END:VEVENT
END:VCALENDAR