BEGIN:VCALENDAR
VERSION:2.0
PRODID:-//Assemblea dei Genitori dell&#039;Istituto Scolastico di Losone - ECPv6.15.20//NONSGML v1.0//EN
CALSCALE:GREGORIAN
METHOD:PUBLISH
X-WR-CALNAME:Assemblea dei Genitori dell&#039;Istituto Scolastico di Losone
X-ORIGINAL-URL:https://genitorilosone.ch
X-WR-CALDESC:Eventi per Assemblea dei Genitori dell&#039;Istituto Scolastico di Losone
REFRESH-INTERVAL;VALUE=DURATION:PT1H
X-Robots-Tag:noindex
X-PUBLISHED-TTL:PT1H
BEGIN:VTIMEZONE
TZID:Europe/Rome
BEGIN:DAYLIGHT
TZOFFSETFROM:+0100
TZOFFSETTO:+0200
TZNAME:CEST
DTSTART:20240331T010000
END:DAYLIGHT
BEGIN:STANDARD
TZOFFSETFROM:+0200
TZOFFSETTO:+0100
TZNAME:CET
DTSTART:20241027T010000
END:STANDARD
BEGIN:DAYLIGHT
TZOFFSETFROM:+0100
TZOFFSETTO:+0200
TZNAME:CEST
DTSTART:20250330T010000
END:DAYLIGHT
BEGIN:STANDARD
TZOFFSETFROM:+0200
TZOFFSETTO:+0100
TZNAME:CET
DTSTART:20251026T010000
END:STANDARD
BEGIN:DAYLIGHT
TZOFFSETFROM:+0100
TZOFFSETTO:+0200
TZNAME:CEST
DTSTART:20260329T010000
END:DAYLIGHT
BEGIN:STANDARD
TZOFFSETFROM:+0200
TZOFFSETTO:+0100
TZNAME:CET
DTSTART:20261025T010000
END:STANDARD
END:VTIMEZONE
BEGIN:VEVENT
DTSTART;TZID=Europe/Rome:20250604T083000
DTEND;TZID=Europe/Rome:20250604T100000
DTSTAMP:20260424T130326
CREATED:20250106T171522Z
LAST-MODIFIED:20250106T171522Z
UID:1614-1749025800-1749031200@genitorilosone.ch
SUMMARY:Caffé dei genitori
DESCRIPTION:Ci trovate in Ludoteca tra le 8.30 e le 10 ca. Vi aspettiamo!
URL:https://genitorilosone.ch/events/caffe-dei-genitori-35/
END:VEVENT
BEGIN:VEVENT
DTSTART;TZID=Europe/Rome:20250613T160000
DTEND;TZID=Europe/Rome:20250613T203000
DTSTAMP:20260424T130326
CREATED:20250114T093558Z
LAST-MODIFIED:20250114T093558Z
UID:1626-1749830400-1749846600@genitorilosone.ch
SUMMARY:Festa di fine anno
DESCRIPTION:L’Assemblea dei genitori anche quest’anno vi invita a festeggiare la fine dell’anno scolastico. Riservate la data. Info seguiranno. \n  \n 
URL:https://genitorilosone.ch/events/festa-di-fine-anno-4/
END:VEVENT
BEGIN:VEVENT
DTSTART;TZID=Europe/Rome:20250613T160000
DTEND;TZID=Europe/Rome:20250613T203000
DTSTAMP:20260424T130326
CREATED:20250513T193403Z
LAST-MODIFIED:20250515T122655Z
UID:1677-1749830400-1749846600@genitorilosone.ch
SUMMARY:Festa di fine anno '25
DESCRIPTION:L’Assemblea dei genitori anche quest’anno vi invita a festeggiare la fine dell’anno scolastico \nVENERDI’ 13 GIUGNO 2025 \nsul cortile delle scuole elementari per trascorrere un lungo pomeriggio di divertimento prima della lunga pausa estiva: \n\nDalle 16:30 apertura buvette zucchero filato e pop corn (3.- al pezzo)\, giochi liberi e lotteria\nDalle 17:30 musica\nDalle 18:30 maccheronata al sugo (5.- a persona + 5.- deposito stoviglie)\nDalle 19:00 banco del dolce fino ad esaurimento (3.- al pezzo)\n\nLa festa avrà luogo con qualsiasi tempo. \nPer permetterci di stimare il numero di porzioni da preparare\, vi preghiamo di annunciarvi entro martedì 27 maggio  sul sito: \nwww.genitorilosone.ch/iscrizione \n  \n 
URL:https://genitorilosone.ch/events/festa-di-fine-anno-25/
END:VEVENT
BEGIN:VEVENT
DTSTART;TZID=Europe/Rome:20250618T083000
DTEND;TZID=Europe/Rome:20250618T100000
DTSTAMP:20260424T130326
CREATED:20250106T171550Z
LAST-MODIFIED:20250106T171550Z
UID:1616-1750235400-1750240800@genitorilosone.ch
SUMMARY:Caffé dei genitori
DESCRIPTION:Ci trovate in Ludoteca tra le 8.30 e le 10 ca. Vi aspettiamo!
URL:https://genitorilosone.ch/events/caffe-dei-genitori-36/
END:VEVENT
END:VCALENDAR