BEGIN:VCALENDAR
VERSION:2.0
PRODID:-//Assemblea dei Genitori dell&#039;Istituto Scolastico di Losone - ECPv6.15.20//NONSGML v1.0//EN
CALSCALE:GREGORIAN
METHOD:PUBLISH
X-ORIGINAL-URL:https://genitorilosone.ch
X-WR-CALDESC:Eventi per Assemblea dei Genitori dell&#039;Istituto Scolastico di Losone
REFRESH-INTERVAL;VALUE=DURATION:PT1H
X-Robots-Tag:noindex
X-PUBLISHED-TTL:PT1H
BEGIN:VTIMEZONE
TZID:Europe/Rome
BEGIN:DAYLIGHT
TZOFFSETFROM:+0100
TZOFFSETTO:+0200
TZNAME:CEST
DTSTART:20240331T010000
END:DAYLIGHT
BEGIN:STANDARD
TZOFFSETFROM:+0200
TZOFFSETTO:+0100
TZNAME:CET
DTSTART:20241027T010000
END:STANDARD
BEGIN:DAYLIGHT
TZOFFSETFROM:+0100
TZOFFSETTO:+0200
TZNAME:CEST
DTSTART:20250330T010000
END:DAYLIGHT
BEGIN:STANDARD
TZOFFSETFROM:+0200
TZOFFSETTO:+0100
TZNAME:CET
DTSTART:20251026T010000
END:STANDARD
BEGIN:DAYLIGHT
TZOFFSETFROM:+0100
TZOFFSETTO:+0200
TZNAME:CEST
DTSTART:20260329T010000
END:DAYLIGHT
BEGIN:STANDARD
TZOFFSETFROM:+0200
TZOFFSETTO:+0100
TZNAME:CET
DTSTART:20261025T010000
END:STANDARD
END:VTIMEZONE
BEGIN:VEVENT
DTSTART;TZID=Europe/Rome:20250514T083000
DTEND;TZID=Europe/Rome:20250514T100000
DTSTAMP:20260424T113941
CREATED:20250106T171333Z
LAST-MODIFIED:20250106T171333Z
UID:1610-1747211400-1747216800@genitorilosone.ch
SUMMARY:Caffé dei genitori
DESCRIPTION:Ci trovate in Ludoteca tra le 8.30 e le 10 ca. Vi aspettiamo!
URL:https://genitorilosone.ch/events/caffe-dei-genitori-34/
END:VEVENT
BEGIN:VEVENT
DTSTART;TZID=Europe/Rome:20250521T083000
DTEND;TZID=Europe/Rome:20250521T100000
DTSTAMP:20260424T113941
CREATED:20250106T171435Z
LAST-MODIFIED:20250106T171435Z
UID:1612-1747816200-1747821600@genitorilosone.ch
SUMMARY:Caffé dei genitori - Giornata della lettura ad alta voce
DESCRIPTION:Ci trovate in Ludoteca tra le 8.30 e le 10 ca. Vi aspettiamo!
URL:https://genitorilosone.ch/events/caffe-dei-genitori-giornata-della-lettura-ad-alta-voce/
END:VEVENT
BEGIN:VEVENT
DTSTART;TZID=Europe/Rome:20250521T140000
DTEND;TZID=Europe/Rome:20250521T150000
DTSTAMP:20260424T113941
CREATED:20240919T193628Z
LAST-MODIFIED:20240919T193628Z
UID:1490-1747836000-1747839600@genitorilosone.ch
SUMMARY:Giornata nazionale della Lettura ad alta voce
DESCRIPTION:Info seguiranno
URL:https://genitorilosone.ch/events/giornata-nazionale-della-lettura-ad-alta-voce-3/
END:VEVENT
END:VCALENDAR