BEGIN:VCALENDAR
VERSION:2.0
PRODID:-//Assemblea dei Genitori dell&#039;Istituto Scolastico di Losone - ECPv6.15.20//NONSGML v1.0//EN
CALSCALE:GREGORIAN
METHOD:PUBLISH
X-ORIGINAL-URL:https://genitorilosone.ch
X-WR-CALDESC:Eventi per Assemblea dei Genitori dell&#039;Istituto Scolastico di Losone
REFRESH-INTERVAL;VALUE=DURATION:PT1H
X-Robots-Tag:noindex
X-PUBLISHED-TTL:PT1H
BEGIN:VTIMEZONE
TZID:Europe/Rome
BEGIN:DAYLIGHT
TZOFFSETFROM:+0100
TZOFFSETTO:+0200
TZNAME:CEST
DTSTART:20240331T010000
END:DAYLIGHT
BEGIN:STANDARD
TZOFFSETFROM:+0200
TZOFFSETTO:+0100
TZNAME:CET
DTSTART:20241027T010000
END:STANDARD
BEGIN:DAYLIGHT
TZOFFSETFROM:+0100
TZOFFSETTO:+0200
TZNAME:CEST
DTSTART:20250330T010000
END:DAYLIGHT
BEGIN:STANDARD
TZOFFSETFROM:+0200
TZOFFSETTO:+0100
TZNAME:CET
DTSTART:20251026T010000
END:STANDARD
BEGIN:DAYLIGHT
TZOFFSETFROM:+0100
TZOFFSETTO:+0200
TZNAME:CEST
DTSTART:20260329T010000
END:DAYLIGHT
BEGIN:STANDARD
TZOFFSETFROM:+0200
TZOFFSETTO:+0100
TZNAME:CET
DTSTART:20261025T010000
END:STANDARD
END:VTIMEZONE
BEGIN:VEVENT
DTSTART;TZID=Europe/Rome:20250409T083000
DTEND;TZID=Europe/Rome:20250409T100000
DTSTAMP:20260424T095950
CREATED:20250106T171225Z
LAST-MODIFIED:20250106T171225Z
UID:1606-1744187400-1744192800@genitorilosone.ch
SUMMARY:Caffé dei genitori
DESCRIPTION:Ci trovate in Ludoteca tra le 8.30 e le 10 ca. Vi aspettiamo!
URL:https://genitorilosone.ch/events/caffe-dei-genitori-32/
END:VEVENT
BEGIN:VEVENT
DTSTART;TZID=Europe/Rome:20250412T133000
DTEND;TZID=Europe/Rome:20250412T164500
DTSTAMP:20260424T095950
CREATED:20250326T215111Z
LAST-MODIFIED:20250326T221113Z
UID:1659-1744464600-1744476300@genitorilosone.ch
SUMMARY:Scambio dei vestiti primavera/estate
DESCRIPTION:Cari genitori\,\neffettuate il cambio stagione per l’armadio dei vostri figli a costo zero ed in modo sotenibile con lo “scambio dei vestiti”. \nAnche quest’anno\, in parallelo al mercatino dei bambini\, proponiamo lo scambio dei vestiti primavera/estate dove troverete vestiti e scarpe per bambini e ragazzi. \nCome funziona: \n\nPotete portare i vostri vestiti e prenderne altri.\nPotete portare i vostri vestiti e non prendere nulla.\nPotete prendere dei vestiti senza portare nulla.\n\nI vestiti che rimarranno saranno donati ad enti benefici. \nPotrete portare i sacchi di indumenti che i vostri figli non usano più davanti alla ludoteca tra il 7 ed il 10 aprile (durate gli orari di apertura della scuola) in modo che noi possiamo selezionarli per taglie. \nPer facilitare il nostro lavoro e mantenere una certa qualità dei vestiti proposti vi chiediamo gentilmente di seguire alcune indicazioni: \n– niente intimo (NO calze e mutande)\n– vestiti puliti (NO macchie)\n– vestiti in buone condizioni (NO buchi e con le cerniere che funzionano)\n– scarpe in buone condizioni \nSabato 12 aprile tra le 13:30 e le 16:45\, sotto il portico delle scuole elementari di Losone\, potrete prendere i vestiti che servono ai vostri figli. \nVi ringraziamo fin d’ora se vorrete partecipare a questo progetto che a noi sta molto a cuore. \nPer informazioni contattate: comitato@genitorilosone.ch e NON la segreteria scolastica!\n \n \n 
URL:https://genitorilosone.ch/events/scambio25/
END:VEVENT
BEGIN:VEVENT
DTSTART;TZID=Europe/Rome:20250412T133000
DTEND;TZID=Europe/Rome:20250412T170000
DTSTAMP:20260424T095950
CREATED:20240919T193524Z
LAST-MODIFIED:20250331T190129Z
UID:1488-1744464600-1744477200@genitorilosone.ch
SUMMARY:Mercatino dei bambini\, scambio dei vestiti e "giochi per tutti"
DESCRIPTION:Cari bambini\, \navete giochi\, libri\,… in buono stato che non usate più? Dei lavoretti che vorreste vendere? Approfittate del nostro mercatino svuota-cantina per dargli una seconda vita e guadagnare qualche soldino!\nPotrete esporre la vostra merce su un tavolo che vi verrà messo a disposizione per 5.- CHF.  Iscrizioni entro il 4. aprile su wwww\,genitorilosone.ch/iscrizione \nCari genitori\,\neffettuate il cambio stagione per l’armadio dei vosri figli a costo zero ed in modo sotenibile con lo “scambio dei vestiti”. Tutte le informazioni qui: www.genitorilosone.ch/scambio25 \nCari tutti\nGodetevi con noi un pomeriggio divertente grazie ai “giochi per tutti“. Caccia al tesoro per famiglie insieme agli Scout ad Ogni Costo. Iscrizioni entro il 4. aprile su wwww\,genitorilosone.ch/iscrizione\n \n\nPer svolgere al meglio il pomeriggio ci servono ancora alcuni aiuti\, in particolare in fase di montaggio (11-11.45) e smontaggio 16.45-17.30). Se volete sostenerci\, donateci un’oretta del vostro tempo: www.genitorilosone.ch/iscrizione\nGrazie mille!!!!\n  \nPer informazioni contattate: comitato@genitorilosone.ch e NON la segreteria scolastica!
URL:https://genitorilosone.ch/events/mercatino2025/
END:VEVENT
BEGIN:VEVENT
DTSTART;TZID=Europe/Rome:20250430T083000
DTEND;TZID=Europe/Rome:20250430T100000
DTSTAMP:20260424T095950
CREATED:20250106T171301Z
LAST-MODIFIED:20250106T171301Z
UID:1608-1746001800-1746007200@genitorilosone.ch
SUMMARY:Caffé dei genitori
DESCRIPTION:Ci trovate in Ludoteca tra le 8.30 e le 10 ca. Vi aspettiamo!
URL:https://genitorilosone.ch/events/caffe-dei-genitori-33/
END:VEVENT
END:VCALENDAR