BEGIN:VCALENDAR
VERSION:2.0
PRODID:-//Assemblea dei Genitori dell&#039;Istituto Scolastico di Losone - ECPv6.15.20//NONSGML v1.0//EN
CALSCALE:GREGORIAN
METHOD:PUBLISH
X-ORIGINAL-URL:https://genitorilosone.ch
X-WR-CALDESC:Eventi per Assemblea dei Genitori dell&#039;Istituto Scolastico di Losone
REFRESH-INTERVAL;VALUE=DURATION:PT1H
X-Robots-Tag:noindex
X-PUBLISHED-TTL:PT1H
BEGIN:VTIMEZONE
TZID:Europe/Rome
BEGIN:DAYLIGHT
TZOFFSETFROM:+0100
TZOFFSETTO:+0200
TZNAME:CEST
DTSTART:20240331T010000
END:DAYLIGHT
BEGIN:STANDARD
TZOFFSETFROM:+0200
TZOFFSETTO:+0100
TZNAME:CET
DTSTART:20241027T010000
END:STANDARD
BEGIN:DAYLIGHT
TZOFFSETFROM:+0100
TZOFFSETTO:+0200
TZNAME:CEST
DTSTART:20250330T010000
END:DAYLIGHT
BEGIN:STANDARD
TZOFFSETFROM:+0200
TZOFFSETTO:+0100
TZNAME:CET
DTSTART:20251026T010000
END:STANDARD
BEGIN:DAYLIGHT
TZOFFSETFROM:+0100
TZOFFSETTO:+0200
TZNAME:CEST
DTSTART:20260329T010000
END:DAYLIGHT
BEGIN:STANDARD
TZOFFSETFROM:+0200
TZOFFSETTO:+0100
TZNAME:CET
DTSTART:20261025T010000
END:STANDARD
END:VTIMEZONE
BEGIN:VEVENT
DTSTART;TZID=Europe/Rome:20250312T083000
DTEND;TZID=Europe/Rome:20250312T100000
DTSTAMP:20260424T081424
CREATED:20250106T171131Z
LAST-MODIFIED:20250106T171131Z
UID:1602-1741768200-1741773600@genitorilosone.ch
SUMMARY:Caffé dei genitori
DESCRIPTION:Ci trovate in Ludoteca tra le 8.30 e le 10 ca. Vi aspettiamo!
URL:https://genitorilosone.ch/events/caffe-dei-genitori-30/
END:VEVENT
BEGIN:VEVENT
DTSTART;TZID=Europe/Rome:20250320T153000
DTEND;TZID=Europe/Rome:20250320T170000
DTSTAMP:20260424T081424
CREATED:20240919T193341Z
LAST-MODIFIED:20240920T132352Z
UID:1486-1742484600-1742490000@genitorilosone.ch
SUMMARY:Festa di primavera: giochi in strada
DESCRIPTION:Pomeriggio di giochi in strada davanti all’SI.  Venite a divertirvi con noi! \n 
URL:https://genitorilosone.ch/events/festa-di-primavera-giochi-in-strada-2/
END:VEVENT
BEGIN:VEVENT
DTSTART;TZID=Europe/Rome:20250326T083000
DTEND;TZID=Europe/Rome:20250326T100000
DTSTAMP:20260424T081424
CREATED:20250106T171203Z
LAST-MODIFIED:20250106T171203Z
UID:1604-1742977800-1742983200@genitorilosone.ch
SUMMARY:Caffé dei genitori
DESCRIPTION:Ci trovate in Ludoteca tra le 8.30 e le 10 ca. Vi aspettiamo!
URL:https://genitorilosone.ch/events/caffe-dei-genitori-31/
END:VEVENT
END:VCALENDAR