BEGIN:VCALENDAR
VERSION:2.0
PRODID:-//Assemblea dei Genitori dell&#039;Istituto Scolastico di Losone - ECPv6.15.20//NONSGML v1.0//EN
CALSCALE:GREGORIAN
METHOD:PUBLISH
X-ORIGINAL-URL:https://genitorilosone.ch
X-WR-CALDESC:Eventi per Assemblea dei Genitori dell&#039;Istituto Scolastico di Losone
REFRESH-INTERVAL;VALUE=DURATION:PT1H
X-Robots-Tag:noindex
X-PUBLISHED-TTL:PT1H
BEGIN:VTIMEZONE
TZID:Europe/Rome
BEGIN:DAYLIGHT
TZOFFSETFROM:+0100
TZOFFSETTO:+0200
TZNAME:CEST
DTSTART:20240331T010000
END:DAYLIGHT
BEGIN:STANDARD
TZOFFSETFROM:+0200
TZOFFSETTO:+0100
TZNAME:CET
DTSTART:20241027T010000
END:STANDARD
BEGIN:DAYLIGHT
TZOFFSETFROM:+0100
TZOFFSETTO:+0200
TZNAME:CEST
DTSTART:20250330T010000
END:DAYLIGHT
BEGIN:STANDARD
TZOFFSETFROM:+0200
TZOFFSETTO:+0100
TZNAME:CET
DTSTART:20251026T010000
END:STANDARD
BEGIN:DAYLIGHT
TZOFFSETFROM:+0100
TZOFFSETTO:+0200
TZNAME:CEST
DTSTART:20260329T010000
END:DAYLIGHT
BEGIN:STANDARD
TZOFFSETFROM:+0200
TZOFFSETTO:+0100
TZNAME:CET
DTSTART:20261025T010000
END:STANDARD
END:VTIMEZONE
BEGIN:VEVENT
DTSTART;TZID=Europe/Rome:20250207T153000
DTEND;TZID=Europe/Rome:20250207T163000
DTSTAMP:20260424T063327
CREATED:20240919T193136Z
LAST-MODIFIED:20250115T212637Z
UID:1484-1738942200-1738945800@genitorilosone.ch
SUMMARY:Scambio costumi carnevale
DESCRIPTION:
URL:https://genitorilosone.ch/events/scambio-costumi-carnevale-2025/
LOCATION:Ludoteca “Il Bosco”\, Via Papogna 10\, Losone\, 6616\, Svizzera
END:VEVENT
BEGIN:VEVENT
DTSTART;TZID=Europe/Rome:20250212T083000
DTEND;TZID=Europe/Rome:20250212T100000
DTSTAMP:20260424T063327
CREATED:20250106T171028Z
LAST-MODIFIED:20250106T171028Z
UID:1598-1739349000-1739354400@genitorilosone.ch
SUMMARY:Caffé dei genitori
DESCRIPTION:Ci trovate in Ludoteca tra le 8.30 e le 10 ca. Vi aspettiamo!
URL:https://genitorilosone.ch/events/caffe-dei-genitori-28/
END:VEVENT
BEGIN:VEVENT
DTSTART;TZID=Europe/Rome:20250226T083000
DTEND;TZID=Europe/Rome:20250226T100000
DTSTAMP:20260424T063328
CREATED:20250106T171053Z
LAST-MODIFIED:20250106T171053Z
UID:1600-1740558600-1740564000@genitorilosone.ch
SUMMARY:Caffé dei genitori
DESCRIPTION:Ci trovate in Ludoteca tra le 8.30 e le 10 ca. Vi aspettiamo!
URL:https://genitorilosone.ch/events/caffe-dei-genitori-29/
END:VEVENT
BEGIN:VEVENT
DTSTART;TZID=Europe/Rome:20250228T100000
DTEND;TZID=Europe/Rome:20250228T110000
DTSTAMP:20260424T063328
CREATED:20250115T214347Z
LAST-MODIFIED:20250122T153348Z
UID:1638-1740736800-1740740400@genitorilosone.ch
SUMMARY:Corteo dei bambini
DESCRIPTION:Corteo mascherato dei bambini SE e SI. Il programma è ancora in elaborazione\, Vi preghiamo di pazientare. \nTutti gli allievi rimarranno a scuola per il pranzo.
URL:https://genitorilosone.ch/events/corteo-dei-bambini-2025/
END:VEVENT
END:VCALENDAR