BEGIN:VCALENDAR
VERSION:2.0
PRODID:-//Assemblea dei Genitori dell&#039;Istituto Scolastico di Losone - ECPv6.15.20//NONSGML v1.0//EN
CALSCALE:GREGORIAN
METHOD:PUBLISH
X-WR-CALNAME:Assemblea dei Genitori dell&#039;Istituto Scolastico di Losone
X-ORIGINAL-URL:https://genitorilosone.ch
X-WR-CALDESC:Eventi per Assemblea dei Genitori dell&#039;Istituto Scolastico di Losone
REFRESH-INTERVAL;VALUE=DURATION:PT1H
X-Robots-Tag:noindex
X-PUBLISHED-TTL:PT1H
BEGIN:VTIMEZONE
TZID:Europe/Rome
BEGIN:DAYLIGHT
TZOFFSETFROM:+0100
TZOFFSETTO:+0200
TZNAME:CEST
DTSTART:20240331T010000
END:DAYLIGHT
BEGIN:STANDARD
TZOFFSETFROM:+0200
TZOFFSETTO:+0100
TZNAME:CET
DTSTART:20241027T010000
END:STANDARD
BEGIN:DAYLIGHT
TZOFFSETFROM:+0100
TZOFFSETTO:+0200
TZNAME:CEST
DTSTART:20250330T010000
END:DAYLIGHT
BEGIN:STANDARD
TZOFFSETFROM:+0200
TZOFFSETTO:+0100
TZNAME:CET
DTSTART:20251026T010000
END:STANDARD
BEGIN:DAYLIGHT
TZOFFSETFROM:+0100
TZOFFSETTO:+0200
TZNAME:CEST
DTSTART:20260329T010000
END:DAYLIGHT
BEGIN:STANDARD
TZOFFSETFROM:+0200
TZOFFSETTO:+0100
TZNAME:CET
DTSTART:20261025T010000
END:STANDARD
END:VTIMEZONE
BEGIN:VEVENT
DTSTART;TZID=Europe/Rome:20250115T083000
DTEND;TZID=Europe/Rome:20250115T100000
DTSTAMP:20260424T044830
CREATED:20250106T170924Z
LAST-MODIFIED:20250106T170924Z
UID:1594-1736929800-1736935200@genitorilosone.ch
SUMMARY:Caffé dei genitori
DESCRIPTION:Ci trovate in Ludoteca tra le 8.30 e le 10 ca. Vi aspettiamo!
URL:https://genitorilosone.ch/events/caffe-dei-genitori-26/
END:VEVENT
BEGIN:VEVENT
DTSTART;TZID=Europe/Rome:20250129T083000
DTEND;TZID=Europe/Rome:20250129T100000
DTSTAMP:20260424T044830
CREATED:20250106T171000Z
LAST-MODIFIED:20250106T171000Z
UID:1596-1738139400-1738144800@genitorilosone.ch
SUMMARY:Caffé dei genitori
DESCRIPTION:Ci trovate in Ludoteca tra le 8.30 e le 10 ca. Vi aspettiamo!
URL:https://genitorilosone.ch/events/caffe-dei-genitori-27/
END:VEVENT
BEGIN:VEVENT
DTSTART;TZID=Europe/Rome:20250131T161000
DTEND;TZID=Europe/Rome:20250131T170000
DTSTAMP:20260424T044830
CREATED:20240919T193023Z
LAST-MODIFIED:20250131T080337Z
UID:1482-1738339800-1738342800@genitorilosone.ch
SUMMARY:Bandir gennaio 2025
DESCRIPTION:Bandir Gennaio é confermato! \n  \n  \n  \nRitrovo alle 16.10 davanti all’entrata delle scuole elementari. Conclusione con merenda presso il policentro anziani. \nSe la meteo dovesse indurci ad annullare l’evento\, lo pubblicheremo qui entro le 9:30 del 31 gennaio. \n \n 
URL:https://genitorilosone.ch/events/bandir-gennaio-2025/
END:VEVENT
END:VCALENDAR