BEGIN:VCALENDAR
VERSION:2.0
PRODID:-//Assemblea dei Genitori dell&#039;Istituto Scolastico di Losone - ECPv6.15.20//NONSGML v1.0//EN
CALSCALE:GREGORIAN
METHOD:PUBLISH
X-WR-CALNAME:Assemblea dei Genitori dell&#039;Istituto Scolastico di Losone
X-ORIGINAL-URL:https://genitorilosone.ch
X-WR-CALDESC:Eventi per Assemblea dei Genitori dell&#039;Istituto Scolastico di Losone
REFRESH-INTERVAL;VALUE=DURATION:PT1H
X-Robots-Tag:noindex
X-PUBLISHED-TTL:PT1H
BEGIN:VTIMEZONE
TZID:Europe/Rome
BEGIN:DAYLIGHT
TZOFFSETFROM:+0100
TZOFFSETTO:+0200
TZNAME:CEST
DTSTART:20230326T010000
END:DAYLIGHT
BEGIN:STANDARD
TZOFFSETFROM:+0200
TZOFFSETTO:+0100
TZNAME:CET
DTSTART:20231029T010000
END:STANDARD
BEGIN:DAYLIGHT
TZOFFSETFROM:+0100
TZOFFSETTO:+0200
TZNAME:CEST
DTSTART:20240331T010000
END:DAYLIGHT
BEGIN:STANDARD
TZOFFSETFROM:+0200
TZOFFSETTO:+0100
TZNAME:CET
DTSTART:20241027T010000
END:STANDARD
BEGIN:DAYLIGHT
TZOFFSETFROM:+0100
TZOFFSETTO:+0200
TZNAME:CEST
DTSTART:20250330T010000
END:DAYLIGHT
BEGIN:STANDARD
TZOFFSETFROM:+0200
TZOFFSETTO:+0100
TZNAME:CET
DTSTART:20251026T010000
END:STANDARD
END:VTIMEZONE
BEGIN:VEVENT
DTSTART;TZID=Europe/Rome:20241202T160000
DTEND;TZID=Europe/Rome:20241206T173000
DTSTAMP:20260424T062802
CREATED:20240903T140901Z
LAST-MODIFIED:20251109T101745Z
UID:1732-1733155200-1733506200@genitorilosone.ch
SUMMARY:Borsa solidale 2024
DESCRIPTION:GRAZIE ! abbiamo raccolto ben 46 borse.\n  \n  \n  \n  \nAnche nella nostra comunità vivono famiglie che attraversano momenti di difficoltà finanziaria. Insieme possiamo contribuire a rendere più sereno il loro Natale. \nDurante la settimana dal 24 al 28.11 raccoglieremo alimenti a lunga conservazione e prepareremo delle borse della spesa regalo. L’assistente sociale comunale\, sig.ra Elena Balzano\, consegnerà le borse alle famiglie di Losone che possono beneficiare di questa azione. \nCome potete contribuire?\nAcquistate prodotti a lunga conservazione (esempi sotto) \nConsegnateli presso la Ludoteca nella settimana dal 24.11 al 28.11. \nChi ha piacere\, può contribuire secondo le proprie possibilità. Che sia un singolo articolo o una borsa completa\, ogni aiuto conta. \nChi lo desidera può aggiungere un biglietto di auguri o un disegno\, in forma anonima. \nSiamo felici di condividere con voi questo progetto. \nSperando che questo gesto lasci un ricordo positivo sia alle famiglie che ricevono che a quelle che donano\, auguriamo un buon avvento a tutti.
URL:https://genitorilosone.ch/events/borsa-solidale-2024/
ATTACH;FMTTYPE=image/jpeg:https://genitorilosone.ch/wp-content/uploads/2024/12/2024-12-16-Borse.jpeg
END:VEVENT
BEGIN:VEVENT
DTSTART;TZID=Europe/Rome:20241204T083000
DTEND;TZID=Europe/Rome:20241204T100000
DTSTAMP:20260424T062802
CREATED:20240919T194949Z
LAST-MODIFIED:20240919T194949Z
UID:1504-1733301000-1733306400@genitorilosone.ch
SUMMARY:Caffé dei genitori
DESCRIPTION:Ci trovate in Ludoteca tra le 8.30 e le 10 ca. Vi aspettiamo!
URL:https://genitorilosone.ch/events/caffe-dei-genitori-24/
END:VEVENT
BEGIN:VEVENT
DTSTART;TZID=Europe/Rome:20241209T160000
DTEND;TZID=Europe/Rome:20241213T173000
DTSTAMP:20260424T062802
CREATED:20241202T124922Z
LAST-MODIFIED:20241202T163738Z
UID:1560-1733760000-1734111000@genitorilosone.ch
SUMMARY:Borsa solidale
DESCRIPTION:Anche nella nostra comunità vivono famiglie che attraversano momenti di difficoltà finanziaria. Insieme possiamo contribuire a rendere più sereno il loro Natale. \nDurante la settimana dal 09.12 al 13.12 raccoglieremo alimenti a lunga conservazione e prepareremo delle borse della spesa regalo. L’assistente sociale comunale\, sig.ra Elena Balzano\, consegnerà le borse alle famiglie di Losone che possono beneficiare di questa azione. \nCome potete contribuire?\nAcquistate prodotti a lunga conservazione (esempi sotto) \nConsegnateli presso la Ludoteca nella settimana dal 9.12 al 13.12. \nChi ha piacere\, può contribuire secondo le proprie possibilità. Che sia un singolo articolo o una borsa completa\, ogni aiuto conta. \nChi lo desidera può aggiungere un biglietto di auguri o un disegno\, in forma anonima. \nSiamo felici di condividere con voi questo progetto. \nSperando che questo gesto lasci un ricordo positivo sia alle famiglie che ricevono che a quelle che donano\, auguriamo un buon avvento a tutti.
URL:https://genitorilosone.ch/events/borsa-solidale/
END:VEVENT
BEGIN:VEVENT
DTSTART;TZID=Europe/Rome:20241218T083000
DTEND;TZID=Europe/Rome:20241218T100000
DTSTAMP:20260424T062802
CREATED:20240919T195037Z
LAST-MODIFIED:20240919T195037Z
UID:1506-1734510600-1734516000@genitorilosone.ch
SUMMARY:Caffé dei genitori
DESCRIPTION:Ci trovate in Ludoteca tra le 8.30 e le 10 ca. Vi aspettiamo!
URL:https://genitorilosone.ch/events/caffe-dei-genitori-25/
END:VEVENT
BEGIN:VEVENT
DTSTART;TZID=Europe/Rome:20241219T160000
DTEND;TZID=Europe/Rome:20241219T173000
DTSTAMP:20260424T062802
CREATED:20240919T192607Z
LAST-MODIFIED:20240919T192607Z
UID:1480-1734624000-1734629400@genitorilosone.ch
SUMMARY:Panettonata
DESCRIPTION:Ci scambieremo gli auguri\, auspici e idee per il 2024 con un fetta di panettone ed un buon bicchiere di vin brûlé. \n 
URL:https://genitorilosone.ch/events/panettonata-3/
END:VEVENT
END:VCALENDAR