BEGIN:VCALENDAR
VERSION:2.0
PRODID:-//Assemblea dei Genitori dell&#039;Istituto Scolastico di Losone - ECPv6.15.20//NONSGML v1.0//EN
CALSCALE:GREGORIAN
METHOD:PUBLISH
X-WR-CALNAME:Assemblea dei Genitori dell&#039;Istituto Scolastico di Losone
X-ORIGINAL-URL:https://genitorilosone.ch
X-WR-CALDESC:Eventi per Assemblea dei Genitori dell&#039;Istituto Scolastico di Losone
REFRESH-INTERVAL;VALUE=DURATION:PT1H
X-Robots-Tag:noindex
X-PUBLISHED-TTL:PT1H
BEGIN:VTIMEZONE
TZID:Europe/Rome
BEGIN:DAYLIGHT
TZOFFSETFROM:+0100
TZOFFSETTO:+0200
TZNAME:CEST
DTSTART:20230326T010000
END:DAYLIGHT
BEGIN:STANDARD
TZOFFSETFROM:+0200
TZOFFSETTO:+0100
TZNAME:CET
DTSTART:20231029T010000
END:STANDARD
BEGIN:DAYLIGHT
TZOFFSETFROM:+0100
TZOFFSETTO:+0200
TZNAME:CEST
DTSTART:20240331T010000
END:DAYLIGHT
BEGIN:STANDARD
TZOFFSETFROM:+0200
TZOFFSETTO:+0100
TZNAME:CET
DTSTART:20241027T010000
END:STANDARD
BEGIN:DAYLIGHT
TZOFFSETFROM:+0100
TZOFFSETTO:+0200
TZNAME:CEST
DTSTART:20250330T010000
END:DAYLIGHT
BEGIN:STANDARD
TZOFFSETFROM:+0200
TZOFFSETTO:+0100
TZNAME:CET
DTSTART:20251026T010000
END:STANDARD
END:VTIMEZONE
BEGIN:VEVENT
DTSTART;TZID=Europe/Rome:20241009T083000
DTEND;TZID=Europe/Rome:20241009T100000
DTSTAMP:20260424T093735
CREATED:20240919T194656Z
LAST-MODIFIED:20240919T194656Z
UID:1498-1728462600-1728468000@genitorilosone.ch
SUMMARY:Caffé dei genitori - raccolta castagne
DESCRIPTION:Ritrovo davanti alla lavagna tra le 8.30 e le 8.50 ca. Vi aspettiamo!
URL:https://genitorilosone.ch/events/caffe-dei-genitori-raccolta-castagne-2/
END:VEVENT
BEGIN:VEVENT
DTSTART;TZID=Europe/Rome:20241010T200000
DTEND;TZID=Europe/Rome:20241010T213000
DTSTAMP:20260424T093735
CREATED:20230903T205355Z
LAST-MODIFIED:20241001T080120Z
UID:1319-1728590400-1728595800@genitorilosone.ch
SUMMARY:Teatro per genitori "Un giorno con Giulio"
DESCRIPTION:Alle 20:00 al Centro la Torre
URL:https://genitorilosone.ch/events/assemblea-ordinaria-3/
END:VEVENT
BEGIN:VEVENT
DTSTART;TZID=Europe/Rome:20241015T200000
DTEND;TZID=Europe/Rome:20241015T210000
DTSTAMP:20260424T093735
CREATED:20240919T132553Z
LAST-MODIFIED:20241002T210950Z
UID:1474-1729022400-1729026000@genitorilosone.ch
SUMMARY:Assemblea ordinaria
DESCRIPTION:20:00 in Aula 3 \n \nscaricate qui l’Ordine del giorno e lo Statuto AGISL \n 
URL:https://genitorilosone.ch/events/assemblea-ordinaria-4/
END:VEVENT
BEGIN:VEVENT
DTSTART;TZID=Europe/Rome:20241018T084500
DTEND;TZID=Europe/Rome:20241018T110000
DTSTAMP:20260424T093735
CREATED:20241013T172926Z
LAST-MODIFIED:20241013T202800Z
UID:1539-1729241100-1729249200@genitorilosone.ch
SUMMARY:Giochi da tavolo - I genitori testano i giochi
DESCRIPTION:Vorreste provare dei nuovi giochi di società ma i vostri figli si annoiano mentre voi studiate le regole?\nVenerdì 18.10\, dalle 8.45 alle 11 ca.\nci troveremo in Ludoteca per provare alcuni giochi da poi giocare coi nostri figli.\nSarà anche l’occasione per prepararsi alla serata di giochi da tavolo di martedì 22 ottobre. \n \n 
URL:https://genitorilosone.ch/events/giochi-da-tavolo-settimana-cantonale-dei-centri-di-socializzazione/
END:VEVENT
BEGIN:VEVENT
DTSTART;TZID=Europe/Rome:20241022T163000
DTEND;TZID=Europe/Rome:20241022T180000
DTSTAMP:20260424T093735
CREATED:20240919T193736Z
LAST-MODIFIED:20241002T211622Z
UID:1492-1729614600-1729620000@genitorilosone.ch
SUMMARY:Giochi da tavolo - Settimana cantonale dei centri di socializzazione
DESCRIPTION:dalle 16:30 alle 18 venite in ludoteca a conoscere dei nuovi giochi da tavolo \n \n 
URL:https://genitorilosone.ch/events/festa-di-fine-anno-3/
END:VEVENT
BEGIN:VEVENT
DTSTART;TZID=Europe/Rome:20241023T083000
DTEND;TZID=Europe/Rome:20241023T100000
DTSTAMP:20260424T093735
CREATED:20240922T194400Z
LAST-MODIFIED:20241002T211826Z
UID:1507-1729672200-1729677600@genitorilosone.ch
SUMMARY:Caffé dei genitori - Settimana cantonale dei centri di socializzazione
DESCRIPTION:Ci trovate in Ludoteca tra le 8.30 e le 10 ca. Vi aspettiamo!
URL:https://genitorilosone.ch/events/caffe-dei-genitori-settimana-cantonale-dei-centri-di-socializzazione/
END:VEVENT
BEGIN:VEVENT
DTSTART;TZID=Europe/Rome:20241023T140000
DTEND;TZID=Europe/Rome:20241023T170000
DTSTAMP:20260424T093735
CREATED:20241002T211751Z
LAST-MODIFIED:20241002T211751Z
UID:1530-1729692000-1729702800@genitorilosone.ch
SUMMARY:Giochi in ludoteca - Settimana cantonale dei centri di socializzazione
DESCRIPTION:dalle 14 alle 17 venite in ludoteca a giocare e conoscere altre famiglie \n \n 
URL:https://genitorilosone.ch/events/giochi-in-ludoteca-settimana-cantonale-dei-centri-di-socializzazione/
END:VEVENT
END:VCALENDAR