BEGIN:VCALENDAR
VERSION:2.0
PRODID:-//Assemblea dei Genitori dell&#039;Istituto Scolastico di Losone - ECPv6.15.20//NONSGML v1.0//EN
CALSCALE:GREGORIAN
METHOD:PUBLISH
X-ORIGINAL-URL:https://genitorilosone.ch
X-WR-CALDESC:Eventi per Assemblea dei Genitori dell&#039;Istituto Scolastico di Losone
REFRESH-INTERVAL;VALUE=DURATION:PT1H
X-Robots-Tag:noindex
X-PUBLISHED-TTL:PT1H
BEGIN:VTIMEZONE
TZID:Europe/Rome
BEGIN:DAYLIGHT
TZOFFSETFROM:+0100
TZOFFSETTO:+0200
TZNAME:CEST
DTSTART:20250330T010000
END:DAYLIGHT
BEGIN:STANDARD
TZOFFSETFROM:+0200
TZOFFSETTO:+0100
TZNAME:CET
DTSTART:20251026T010000
END:STANDARD
BEGIN:DAYLIGHT
TZOFFSETFROM:+0100
TZOFFSETTO:+0200
TZNAME:CEST
DTSTART:20260329T010000
END:DAYLIGHT
BEGIN:STANDARD
TZOFFSETFROM:+0200
TZOFFSETTO:+0100
TZNAME:CET
DTSTART:20261025T010000
END:STANDARD
BEGIN:DAYLIGHT
TZOFFSETFROM:+0100
TZOFFSETTO:+0200
TZNAME:CEST
DTSTART:20270328T010000
END:DAYLIGHT
BEGIN:STANDARD
TZOFFSETFROM:+0200
TZOFFSETTO:+0100
TZNAME:CET
DTSTART:20271031T010000
END:STANDARD
END:VTIMEZONE
BEGIN:VEVENT
DTSTART;TZID=Europe/Rome:20260203T153000
DTEND;TZID=Europe/Rome:20260203T163000
DTSTAMP:20260421T003043
CREATED:20260115T215640Z
LAST-MODIFIED:20260115T220249Z
UID:1856-1770132600-1770136200@genitorilosone.ch
SUMMARY:Scambio costumi carnevale
DESCRIPTION:
URL:https://genitorilosone.ch/events/scambio-costumi-carnevale-3/
LOCATION:Ludoteca “Il Bosco”\, Via Papogna 10\, Losone\, 6616\, Svizzera
ATTACH;FMTTYPE=image/png:https://genitorilosone.ch/wp-content/uploads/2026/01/Scambio-costumi-2026-e1768514555223.png
END:VEVENT
BEGIN:VEVENT
DTSTART;TZID=Europe/Rome:20260225T083000
DTEND;TZID=Europe/Rome:20260225T100000
DTSTAMP:20260421T003043
CREATED:20260224T081652Z
LAST-MODIFIED:20260224T081652Z
UID:1871-1772008200-1772013600@genitorilosone.ch
SUMMARY:Caffé dei genitori
DESCRIPTION:Ci trovate in Ludoteca tra le 8.30 e le 10 ca. Vi aspettiamo!
URL:https://genitorilosone.ch/events/caffe-dei-genitori-44/
END:VEVENT
BEGIN:VEVENT
DTSTART;TZID=Europe/Rome:20260311T083000
DTEND;TZID=Europe/Rome:20260311T100000
DTSTAMP:20260421T003043
CREATED:20260224T082522Z
LAST-MODIFIED:20260224T082522Z
UID:1873-1773217800-1773223200@genitorilosone.ch
SUMMARY:Caffé dei genitori
DESCRIPTION:Ci trovate in Ludoteca tra le 8.30 e le 10 ca. Vi aspettiamo!
URL:https://genitorilosone.ch/events/caffe-dei-genitori-45/
END:VEVENT
BEGIN:VEVENT
DTSTART;TZID=Europe/Rome:20260325T083000
DTEND;TZID=Europe/Rome:20260325T100000
DTSTAMP:20260421T003043
CREATED:20260224T082654Z
LAST-MODIFIED:20260224T082654Z
UID:1875-1774427400-1774432800@genitorilosone.ch
SUMMARY:Caffé dei genitori
DESCRIPTION:Ci trovate in Ludoteca tra le 8.30 e le 10 ca. Vi aspettiamo!
URL:https://genitorilosone.ch/events/caffe-dei-genitori-46/
END:VEVENT
BEGIN:VEVENT
DTSTART;TZID=Europe/Rome:20260327T153000
DTEND;TZID=Europe/Rome:20260327T170000
DTSTAMP:20260421T003043
CREATED:20260115T220630Z
LAST-MODIFIED:20260115T220832Z
UID:1861-1774625400-1774630800@genitorilosone.ch
SUMMARY:Festa di primavera: giochi in strada
DESCRIPTION:Pomeriggio di giochi in strada davanti all’SI.  Venite a divertirvi con noi! \n 
URL:https://genitorilosone.ch/events/festa-di-primavera-giochi-in-strada-3/
ATTACH;FMTTYPE=image/jpeg:https://genitorilosone.ch/wp-content/uploads/2026/01/20240321_174314-scaled.jpg
END:VEVENT
BEGIN:VEVENT
DTSTART;TZID=Europe/Rome:20260415T083000
DTEND;TZID=Europe/Rome:20260415T100000
DTSTAMP:20260421T003043
CREATED:20260224T082809Z
LAST-MODIFIED:20260224T082809Z
UID:1877-1776241800-1776247200@genitorilosone.ch
SUMMARY:Caffé dei genitori
DESCRIPTION:Ci trovate in Ludoteca tra le 8.30 e le 10 ca. Vi aspettiamo!
URL:https://genitorilosone.ch/events/caffe-dei-genitori-47/
END:VEVENT
BEGIN:VEVENT
DTSTART;TZID=Europe/Rome:20260418T133000
DTEND;TZID=Europe/Rome:20260418T170000
DTSTAMP:20260421T003043
CREATED:20260115T221127Z
LAST-MODIFIED:20260115T221127Z
UID:1864-1776519000-1776531600@genitorilosone.ch
SUMMARY:Mercatino dei bambini\, scambio dei vestiti e "giochi per tutti"
DESCRIPTION:Cari bambini\, \navete giochi\, libri\,… in buono stato che non usate più? Dei lavoretti che vorreste vendere? Approfittate del nostro mercatino svuota-cantina per dargli una seconda vita e guadagnare qualche soldino! \nCari genitori\,\neffettuate il cambio stagione per l’armadio dei vosri figli a costo zero ed in modo sotenibile con lo “scambio dei vestiti”. Qui le informazioni dell’anno scorso: www.genitorilosone.ch/scambio25 \nPer informazioni contattate: comitato@genitorilosone.ch e NON la segreteria scolastica! \n  \n 
URL:https://genitorilosone.ch/events/mercatino-dei-bambini-scambio-dei-vestiti-e-giochi-per-tutti/
END:VEVENT
BEGIN:VEVENT
DTSTART;TZID=Europe/Rome:20260429T083000
DTEND;TZID=Europe/Rome:20260429T100000
DTSTAMP:20260421T003043
CREATED:20260224T082903Z
LAST-MODIFIED:20260224T082903Z
UID:1879-1777451400-1777456800@genitorilosone.ch
SUMMARY:Caffé dei genitori
DESCRIPTION:Ci trovate in Ludoteca tra le 8.30 e le 10 ca. Vi aspettiamo!
URL:https://genitorilosone.ch/events/caffe-dei-genitori-48/
END:VEVENT
BEGIN:VEVENT
DTSTART;TZID=Europe/Rome:20260513T083000
DTEND;TZID=Europe/Rome:20260513T100000
DTSTAMP:20260421T003043
CREATED:20260224T082953Z
LAST-MODIFIED:20260224T082953Z
UID:1881-1778661000-1778666400@genitorilosone.ch
SUMMARY:Caffé dei genitori
DESCRIPTION:Ci trovate in Ludoteca tra le 8.30 e le 10 ca. Vi aspettiamo!
URL:https://genitorilosone.ch/events/caffe-dei-genitori-49/
END:VEVENT
BEGIN:VEVENT
DTSTART;TZID=Europe/Rome:20260527T083000
DTEND;TZID=Europe/Rome:20260527T100000
DTSTAMP:20260421T003043
CREATED:20260224T083021Z
LAST-MODIFIED:20260224T083021Z
UID:1883-1779870600-1779876000@genitorilosone.ch
SUMMARY:Caffé dei genitori
DESCRIPTION:Ci trovate in Ludoteca tra le 8.30 e le 10 ca. Vi aspettiamo!
URL:https://genitorilosone.ch/events/caffe-dei-genitori-50/
END:VEVENT
BEGIN:VEVENT
DTSTART;TZID=Europe/Rome:20260527T140000
DTEND;TZID=Europe/Rome:20260527T150000
DTSTAMP:20260421T003043
CREATED:20260115T221803Z
LAST-MODIFIED:20260115T221803Z
UID:1867-1779890400-1779894000@genitorilosone.ch
SUMMARY:Giornata nazionale della Lettura ad alta voce
DESCRIPTION:Info seguiranno
URL:https://genitorilosone.ch/events/giornata-nazionale-della-lettura-ad-alta-voce-4/
ATTACH;FMTTYPE=image/jpeg:https://genitorilosone.ch/wp-content/uploads/2023/04/WhatsApp-Image-2023-05-05-at-11.13.35-e1768515469371.jpeg
END:VEVENT
BEGIN:VEVENT
DTSTART;TZID=Europe/Rome:20260610T083000
DTEND;TZID=Europe/Rome:20260610T100000
DTSTAMP:20260421T003043
CREATED:20260224T083057Z
LAST-MODIFIED:20260224T083057Z
UID:1885-1781080200-1781085600@genitorilosone.ch
SUMMARY:Caffé dei genitori
DESCRIPTION:Ci trovate in Ludoteca tra le 8.30 e le 10 ca. Vi aspettiamo!
URL:https://genitorilosone.ch/events/caffe-dei-genitori-51/
END:VEVENT
END:VCALENDAR