BEGIN:VCALENDAR
VERSION:2.0
PRODID:-//Assemblea dei Genitori dell&#039;Istituto Scolastico di Losone - ECPv6.15.20//NONSGML v1.0//EN
CALSCALE:GREGORIAN
METHOD:PUBLISH
X-WR-CALNAME:Assemblea dei Genitori dell&#039;Istituto Scolastico di Losone
X-ORIGINAL-URL:https://genitorilosone.ch
X-WR-CALDESC:Eventi per Assemblea dei Genitori dell&#039;Istituto Scolastico di Losone
REFRESH-INTERVAL;VALUE=DURATION:PT1H
X-Robots-Tag:noindex
X-PUBLISHED-TTL:PT1H
BEGIN:VTIMEZONE
TZID:Europe/Rome
BEGIN:DAYLIGHT
TZOFFSETFROM:+0100
TZOFFSETTO:+0200
TZNAME:CEST
DTSTART:20250330T010000
END:DAYLIGHT
BEGIN:STANDARD
TZOFFSETFROM:+0200
TZOFFSETTO:+0100
TZNAME:CET
DTSTART:20251026T010000
END:STANDARD
BEGIN:DAYLIGHT
TZOFFSETFROM:+0100
TZOFFSETTO:+0200
TZNAME:CEST
DTSTART:20260329T010000
END:DAYLIGHT
BEGIN:STANDARD
TZOFFSETFROM:+0200
TZOFFSETTO:+0100
TZNAME:CET
DTSTART:20261025T010000
END:STANDARD
BEGIN:DAYLIGHT
TZOFFSETFROM:+0100
TZOFFSETTO:+0200
TZNAME:CEST
DTSTART:20270328T010000
END:DAYLIGHT
BEGIN:STANDARD
TZOFFSETFROM:+0200
TZOFFSETTO:+0100
TZNAME:CET
DTSTART:20271031T010000
END:STANDARD
END:VTIMEZONE
BEGIN:VEVENT
DTSTART;TZID=Europe/Rome:20260610T083000
DTEND;TZID=Europe/Rome:20260610T100000
DTSTAMP:20260424T225346
CREATED:20260224T083057Z
LAST-MODIFIED:20260224T083057Z
UID:1885-1781080200-1781085600@genitorilosone.ch
SUMMARY:Caffé dei genitori
DESCRIPTION:Ci trovate in Ludoteca tra le 8.30 e le 10 ca. Vi aspettiamo!
URL:https://genitorilosone.ch/events/caffe-dei-genitori-51/
END:VEVENT
END:VCALENDAR